BEGIN:VCALENDAR
VERSION:2.0
PRODID:-//ScNetstal - ECPv6.7.0//NONSGML v1.0//EN
CALSCALE:GREGORIAN
METHOD:PUBLISH
X-WR-CALNAME:ScNetstal
X-ORIGINAL-URL:https://scnetstal.ch
X-WR-CALDESC:Veranstaltungen für ScNetstal
REFRESH-INTERVAL;VALUE=DURATION:PT1H
X-Robots-Tag:noindex
X-PUBLISHED-TTL:PT1H
BEGIN:VTIMEZONE
TZID:Europe/Paris
BEGIN:DAYLIGHT
TZOFFSETFROM:+0100
TZOFFSETTO:+0200
TZNAME:CEST
DTSTART:20200329T010000
END:DAYLIGHT
BEGIN:STANDARD
TZOFFSETFROM:+0200
TZOFFSETTO:+0100
TZNAME:CET
DTSTART:20201025T010000
END:STANDARD
BEGIN:DAYLIGHT
TZOFFSETFROM:+0100
TZOFFSETTO:+0200
TZNAME:CEST
DTSTART:20210328T010000
END:DAYLIGHT
BEGIN:STANDARD
TZOFFSETFROM:+0200
TZOFFSETTO:+0100
TZNAME:CET
DTSTART:20211031T010000
END:STANDARD
BEGIN:DAYLIGHT
TZOFFSETFROM:+0100
TZOFFSETTO:+0200
TZNAME:CEST
DTSTART:20220327T010000
END:DAYLIGHT
BEGIN:STANDARD
TZOFFSETFROM:+0200
TZOFFSETTO:+0100
TZNAME:CET
DTSTART:20221030T010000
END:STANDARD
END:VTIMEZONE
BEGIN:VEVENT
DTSTART;TZID=Europe/Paris:20221105T190000
DTEND;TZID=Europe/Paris:20221105T230000
DTSTAMP:20260420T043352
CREATED:20221016T103410Z
LAST-MODIFIED:20221016T103410Z
UID:5626-1667674800-1667689200@scnetstal.ch
SUMMARY:90. HV im Bären
DESCRIPTION:
URL:https://scnetstal.ch/events-2/90-hv-im-baeren
END:VEVENT
BEGIN:VEVENT
DTSTART;TZID=Europe/Paris:20221029T110000
DTEND;TZID=Europe/Paris:20221029T153000
DTSTAMP:20260420T043352
CREATED:20221016T103312Z
LAST-MODIFIED:20221016T103312Z
UID:5624-1667041200-1667057400@scnetstal.ch
SUMMARY:38. Glarner Stadtlauf
DESCRIPTION:
URL:https://scnetstal.ch/events-2/38-glarner-stadtlauf
END:VEVENT
BEGIN:VEVENT
DTSTART;TZID=Europe/Paris:20221008T080000
DTEND;TZID=Europe/Paris:20221008T160000
DTSTAMP:20260420T043352
CREATED:20220929T080240Z
LAST-MODIFIED:20220929T080448Z
UID:2191-1665216000-1665244800@scnetstal.ch
SUMMARY:Herbsttour Ochsenkopf
DESCRIPTION: d
URL:https://scnetstal.ch/events-2/herbsttour-auf
END:VEVENT
BEGIN:VEVENT
DTSTART;TZID=Europe/Paris:20220924T090000
DTEND;TZID=Europe/Paris:20220924T120000
DTSTAMP:20260420T043352
CREATED:20220912T130946Z
LAST-MODIFIED:20220912T131041Z
UID:5614-1664010000-1664020800@scnetstal.ch
SUMMARY:Papier-Sammlung
DESCRIPTION:
URL:https://scnetstal.ch/events-2/papier-sammlung-2
END:VEVENT
BEGIN:VEVENT
DTSTART;TZID=Europe/Paris:20220916T130000
DTEND;TZID=Europe/Paris:20220917T233000
DTSTAMP:20260420T043352
CREATED:20220905T185302Z
LAST-MODIFIED:20220912T130834Z
UID:5609-1663333200-1663457400@scnetstal.ch
SUMMARY:Dorffest und Chilbi (abgesagt)
DESCRIPTION:
URL:https://scnetstal.ch/events-2/dorffest-und-chilbi
END:VEVENT
BEGIN:VEVENT
DTSTART;TZID=Europe/Paris:20220611T090000
DTEND;TZID=Europe/Paris:20220611T150000
DTSTAMP:20260420T043352
CREATED:20220530T095501Z
LAST-MODIFIED:20220530T095501Z
UID:5604-1654938000-1654959600@scnetstal.ch
SUMMARY:Jubiläums-Anlass
DESCRIPTION:
URL:https://scnetstal.ch/events-2/jubilaeums-anlass
END:VEVENT
BEGIN:VEVENT
DTSTART;TZID=Europe/Paris:20220515T100000
DTEND;TZID=Europe/Paris:20220515T170000
DTSTAMP:20260420T043352
CREATED:20220430T110712Z
LAST-MODIFIED:20220430T110712Z
UID:5596-1652608800-1652634000@scnetstal.ch
SUMMARY:MTB-Tour
DESCRIPTION:
URL:https://scnetstal.ch/events-2/mtb-tour-2
END:VEVENT
BEGIN:VEVENT
DTSTART;TZID=Europe/Paris:20220514T110000
DTEND;TZID=Europe/Paris:20220514T170000
DTSTAMP:20260420T043352
CREATED:20220430T110629Z
LAST-MODIFIED:20220430T110629Z
UID:5594-1652526000-1652547600@scnetstal.ch
SUMMARY:Rhystafette
DESCRIPTION:
URL:https://scnetstal.ch/events-2/rhystafette-6
END:VEVENT
BEGIN:VEVENT
DTSTART;TZID=Europe/Paris:20220423T093000
DTEND;TZID=Europe/Paris:20220423T150000
DTSTAMP:20260420T043352
CREATED:20220419T062248Z
LAST-MODIFIED:20220419T062327Z
UID:5590-1650706200-1650726000@scnetstal.ch
SUMMARY:Rund-wanderung Atzmännig
DESCRIPTION:
URL:https://scnetstal.ch/events-2/rundwanderung-atzmaennig
END:VEVENT
BEGIN:VEVENT
DTSTART;TZID=Europe/Paris:20220403T080000
DTEND;TZID=Europe/Paris:20220403T170000
DTSTAMP:20260420T043352
CREATED:20220305T181209Z
LAST-MODIFIED:20220402T124330Z
UID:5579-1648972800-1649005200@scnetstal.ch
SUMMARY:Wiggis-Langlauf findet statt
DESCRIPTION:Ausschreibung Wiggis-Langlauf 2022
URL:https://scnetstal.ch/events-2/wiggislanglauf-ausschreibung
END:VEVENT
BEGIN:VEVENT
DTSTART;TZID=Europe/Paris:20220306T080000
DTEND;TZID=Europe/Paris:20220306T170000
DTSTAMP:20260420T043352
CREATED:20220221T154916Z
LAST-MODIFIED:20220221T155142Z
UID:5571-1646553600-1646586000@scnetstal.ch
SUMMARY:Skitour
DESCRIPTION:Die 3. Skitour wird vom 5. auf den 6. März verschoben. \nAnmeldungen bitte bis 3. März an Martin. \nOrt und Treffpunkt wird anschliessend bekannt gegeben.
URL:https://scnetstal.ch/events-2/skitour-3
END:VEVENT
BEGIN:VEVENT
DTSTART;TZID=Europe/Paris:20220213T080000
DTEND;TZID=Europe/Paris:20220213T170000
DTSTAMP:20260420T043352
CREATED:20220206T190441Z
LAST-MODIFIED:20220206T190701Z
UID:5568-1644739200-1644771600@scnetstal.ch
SUMMARY:Kinder-Skirennen am 13. Feb. abgesagt
DESCRIPTION:
URL:https://scnetstal.ch/events-2/kinder-skirennen-am-13-feb-abgesagt
END:VEVENT
BEGIN:VEVENT
DTSTART;TZID=Europe/Paris:20220211T180000
DTEND;TZID=Europe/Paris:20220211T230000
DTSTAMP:20260420T043352
CREATED:20220130T101006Z
LAST-MODIFIED:20220130T101006Z
UID:5561-1644602400-1644620400@scnetstal.ch
SUMMARY:Raclette-Abend Mugibeiz
DESCRIPTION:
URL:https://scnetstal.ch/events-2/raclette-abend-mugibeiz
END:VEVENT
BEGIN:VEVENT
DTSTART;TZID=Europe/Paris:20220205T080000
DTEND;TZID=Europe/Paris:20220205T170000
DTSTAMP:20260420T043352
CREATED:20220130T100904Z
LAST-MODIFIED:20220130T100904Z
UID:5559-1644048000-1644080400@scnetstal.ch
SUMMARY:Skitour
DESCRIPTION:
URL:https://scnetstal.ch/events-2/skitour-2
END:VEVENT
BEGIN:VEVENT
DTSTART;TZID=Europe/Paris:20220109T090000
DTEND;TZID=Europe/Paris:20220109T150000
DTSTAMP:20260420T043352
CREATED:20220103T124518Z
LAST-MODIFIED:20220103T124518Z
UID:5544-1641718800-1641740400@scnetstal.ch
SUMMARY:Skitour Obererbs
DESCRIPTION:
URL:https://scnetstal.ch/events-2/skitour-obererbs-2
END:VEVENT
BEGIN:VEVENT
DTSTART;TZID=Europe/Paris:20211127T160000
DTEND;TZID=Europe/Paris:20211127T200000
DTSTAMP:20260420T043352
CREATED:20211122T192946Z
LAST-MODIFIED:20211122T193626Z
UID:5529-1638028800-1638043200@scnetstal.ch
SUMMARY:Chlaustreff
DESCRIPTION:Beim traditionellen Chlaustreff in Netstal betreibt der SC Netstal einen Stand\, wo Pommes und Getränke verkauft werden. \nWir freuen uns auf viele Besucher und einen guten Zustupf in die Vereinskasse.
URL:https://scnetstal.ch/events-2/chlaustreff
END:VEVENT
BEGIN:VEVENT
DTSTART;TZID=Europe/Paris:20211030T190000
DTEND;TZID=Europe/Paris:20211030T233000
DTSTAMP:20260420T043352
CREATED:20211020T073314Z
LAST-MODIFIED:20211020T073314Z
UID:5515-1635620400-1635636600@scnetstal.ch
SUMMARY:89. HV
DESCRIPTION: 
URL:https://scnetstal.ch/events-2/89-hv
END:VEVENT
BEGIN:VEVENT
DTSTART;TZID=Europe/Paris:20211030T110000
DTEND;TZID=Europe/Paris:20211030T150000
DTSTAMP:20260420T043352
CREATED:20211020T073153Z
LAST-MODIFIED:20211020T073153Z
UID:5513-1635591600-1635606000@scnetstal.ch
SUMMARY:37. Glarner Stadtlauf
DESCRIPTION:
URL:https://scnetstal.ch/events-2/37-glarner-stadtlauf
END:VEVENT
BEGIN:VEVENT
DTSTART;TZID=Europe/Paris:20210926T080000
DTEND;TZID=Europe/Paris:20210926T170000
DTSTAMP:20260420T043352
CREATED:20210916T115655Z
LAST-MODIFIED:20210916T120122Z
UID:5507-1632643200-1632675600@scnetstal.ch
SUMMARY:Herbst-wanderung
DESCRIPTION:
URL:https://scnetstal.ch/events-2/herbstwanderung-2
END:VEVENT
BEGIN:VEVENT
DTSTART;TZID=Europe/Paris:20210911T090000
DTEND;TZID=Europe/Paris:20210911T170000
DTSTAMP:20260420T043352
CREATED:20210822T134618Z
LAST-MODIFIED:20210822T134618Z
UID:5501-1631350800-1631379600@scnetstal.ch
SUMMARY:MTB-Tour
DESCRIPTION:Am 11. September organisiert Marcel Kreuzer eine MTB-Tour\, die für alle geeignet ist. \nMan kann auch mit dem E-Bike teilnehmen. \nInfos via Mail an alle Clubmitglieder. \nAnmeldung bitte bis 7. September bei: \nstefan.schiesser@gmx.ch   oder   079 280 98 45 \nBitte angeben\, wer mit dem E-Bike kommt und wer in Ziegelbrücke dazu stösst.
URL:https://scnetstal.ch/events-2/mtb-tour
END:VEVENT
BEGIN:VEVENT
DTSTART;TZID=Europe/Paris:20210529T080000
DTEND;TZID=Europe/Paris:20210529T170000
DTSTAMP:20260420T043352
CREATED:20210421T054300Z
LAST-MODIFIED:20210421T054300Z
UID:5494-1622275200-1622307600@scnetstal.ch
SUMMARY:Rhystafette abgesagt!
DESCRIPTION:
URL:https://scnetstal.ch/events-2/rhystafette-abgesagt-2
END:VEVENT
BEGIN:VEVENT
DTSTART;TZID=Europe/Paris:20210417T080000
DTEND;TZID=Europe/Paris:20210418T170000
DTSTAMP:20260420T043352
CREATED:20210406T095121Z
LAST-MODIFIED:20210406T095121Z
UID:5491-1618646400-1618765200@scnetstal.ch
SUMMARY:Skitouren-Weekend
DESCRIPTION:Das Skitourenweekend mit Übernachtung in der Claridenhütte findet am 17./18. April statt. \nDas Programm wird kurzfristig je nach Wetter- und Schneesituation bekanntgegeben. \nAnmeldungen bitte umgehend an Martin Heel: 079 136 33 31
URL:https://scnetstal.ch/events-2/skitouren-weekend
END:VEVENT
BEGIN:VEVENT
DTSTART;TZID=Europe/Paris:20210405T080000
DTEND;TZID=Europe/Paris:20210405T160000
DTSTAMP:20260420T043352
CREATED:20210308T110327Z
LAST-MODIFIED:20210404T172734Z
UID:5478-1617609600-1617638400@scnetstal.ch
SUMMARY:Wiggis-Langlauf findet statt! Startzeit neu: 10.45
DESCRIPTION:Wiggis_LL_Ausschreibung
URL:https://scnetstal.ch/events-2/wiggislanglauf-5
END:VEVENT
BEGIN:VEVENT
DTSTART;TZID=Europe/Paris:20210226T180000
DTEND;TZID=Europe/Paris:20210228T180000
DTSTAMP:20260420T043352
CREATED:20210207T105120Z
LAST-MODIFIED:20210207T105120Z
UID:5472-1614362400-1614535200@scnetstal.ch
SUMMARY:Skiweekend Davos
DESCRIPTION:
URL:https://scnetstal.ch/events-2/skiweekend-davos
END:VEVENT
BEGIN:VEVENT
DTSTART;TZID=Europe/Paris:20210206T080000
DTEND;TZID=Europe/Paris:20210206T170000
DTSTAMP:20260420T043352
CREATED:20210201T184248Z
LAST-MODIFIED:20210201T184248Z
UID:5470-1612598400-1612630800@scnetstal.ch
SUMMARY:Skitour auf den Steingässler
DESCRIPTION:
URL:https://scnetstal.ch/events-2/skitour-auf-den-steingaessler
END:VEVENT
BEGIN:VEVENT
DTSTART;TZID=Europe/Paris:20210206T080000
DTEND;TZID=Europe/Paris:20210206T170000
DTSTAMP:20260420T043352
CREATED:20210124T164924Z
LAST-MODIFIED:20210124T164956Z
UID:5465-1612598400-1612630800@scnetstal.ch
SUMMARY:Skitour
DESCRIPTION:Ort noch offen. 
URL:https://scnetstal.ch/events-2/skitour
END:VEVENT
BEGIN:VEVENT
DTSTART;TZID=Europe/Paris:20210123T083000
DTEND;TZID=Europe/Paris:20210123T150000
DTSTAMP:20260420T043352
CREATED:20210119T110401Z
LAST-MODIFIED:20210119T110401Z
UID:5463-1611390600-1611414000@scnetstal.ch
SUMMARY:Skitour Lochegg
DESCRIPTION:Aufstieg von Näfels via Boggenhöhe auf die Lochegg\, anschliessend Abfahrt nach Oberurnen. \nAufstieg: 1250m \nAusrüstung: LVS\, Sonde\, Schaufel \nTreffpunkt: 08.30 Uhr Fahrtsplatz in Näfels \n                      (falls dort kein Platz beim Feuerwehrdepot)
URL:https://scnetstal.ch/events-2/skitour-lochegg
END:VEVENT
BEGIN:VEVENT
DTSTART;TZID=Europe/Paris:20210110T090000
DTEND;TZID=Europe/Paris:20210110T150000
DTSTAMP:20260420T043352
CREATED:20210103T091841Z
LAST-MODIFIED:20210103T091841Z
UID:5450-1610269200-1610290800@scnetstal.ch
SUMMARY:Skitour Obererbs
DESCRIPTION:
URL:https://scnetstal.ch/events-2/skitour-obererbs
END:VEVENT
BEGIN:VEVENT
DTSTART;TZID=Europe/Paris:20201024T183000
DTEND;TZID=Europe/Paris:20201024T233000
DTSTAMP:20260420T043352
CREATED:20201007T131748Z
LAST-MODIFIED:20201017T123515Z
UID:5433-1603564200-1603582200@scnetstal.ch
SUMMARY:88. Hauptver-sammlung abgesagt !!
DESCRIPTION:Liebe Clubmitglieder \nNachdem sich nun auch in der Schweiz die Corona-Situation  massiv verschlechtert und der Bundesrat ab Montag verschärfte Massnahmen verordnet hat\, haben auch wir im Vorstand beschlossen\, unsere HV abzusagen.\nNatürlich fällt somit auch der Katerbummel\, unser 2. Anlass im neuen Vereinsjahr\, ins Wasser. \nWir werden euch gegen Ende Oktober informieren\, wie die Abstimmungen für einige wichtige Traktanden durch alle Mitglieder erfolgen können. \nDer Vorstand wünscht euch weiterhin beste Gesundheit.
URL:https://scnetstal.ch/events-2/88-haupt-versammlung
END:VEVENT
BEGIN:VEVENT
DTSTART;TZID=Europe/Paris:20200912T070000
DTEND;TZID=Europe/Paris:20200912T170000
DTSTAMP:20260420T043352
CREATED:20200812T140943Z
LAST-MODIFIED:20200827T115508Z
UID:5396-1599894000-1599930000@scnetstal.ch
SUMMARY:Herbsttour auf den Gonzen
DESCRIPTION:Die Herbsttour findet am 12. September statt und führt uns auf den Gonzen. Anmeldungen bitte bis 9. September an Martin Heel (079 136 33 31).
URL:https://scnetstal.ch/events-2/herbsttour
END:VEVENT
END:VCALENDAR